BEGIN:VCALENDAR
VERSION:2.0
PRODID:-//Grace Lutheran Primary School - ECPv5.0.0.2//NONSGML v1.0//EN
CALSCALE:GREGORIAN
METHOD:PUBLISH
X-WR-CALNAME:Grace Lutheran Primary School
X-ORIGINAL-URL:https://www.graceprimary.qld.edu.au
X-WR-CALDESC:Events for Grace Lutheran Primary School
BEGIN:VTIMEZONE
TZID:Australia/Brisbane
BEGIN:STANDARD
TZOFFSETFROM:+1000
TZOFFSETTO:+1000
TZNAME:AEST
DTSTART:20200101T000000
END:STANDARD
END:VTIMEZONE
BEGIN:VEVENT
DTSTART;TZID=Australia/Brisbane:20200304T000000
DTEND;TZID=Australia/Brisbane:20200304T000000
DTSTAMP:20200301T061101
CREATED:20200228T034350Z
LAST-MODIFIED:20200228T034350Z
UID:20528-1583280000-1583280000@www.graceprimary.qld.edu.au
SUMMARY:Student Free Day
DESCRIPTION:Student Free \n
URL:https://www.graceprimary.qld.edu.au/event/student-free-day-2/
END:VEVENT
BEGIN:VEVENT
DTSTART;TZID=Australia/Brisbane:20200304T000000
DTEND;TZID=Australia/Brisbane:20200304T000000
DTSTAMP:20200301T061101
CREATED:20200228T034351Z
LAST-MODIFIED:20200228T034351Z
UID:20529-1583280000-1583280000@www.graceprimary.qld.edu.au
SUMMARY:Parent Teacher conferences
DESCRIPTION:Parent Teacher meetings \n
URL:https://www.graceprimary.qld.edu.au/event/parent-teacher-conferences/
END:VEVENT
BEGIN:VEVENT
DTSTART;TZID=Australia/Brisbane:20200308T000000
DTEND;TZID=Australia/Brisbane:20200308T000000
DTSTAMP:20200301T061101
CREATED:20200228T034301Z
LAST-MODIFIED:20200228T034301Z
UID:20483-1583625600-1583625600@www.graceprimary.qld.edu.au
SUMMARY:T3\, WK 4
DESCRIPTION:T3\, WK 4 \n
URL:https://www.graceprimary.qld.edu.au/event/t3-wk-4/
END:VEVENT
BEGIN:VEVENT
DTSTART;TZID=Australia/Brisbane:20200312T000000
DTEND;TZID=Australia/Brisbane:20200312T000000
DTSTAMP:20200301T061101
CREATED:20200228T034129Z
LAST-MODIFIED:20200228T034129Z
UID:20439-1583971200-1583971200@www.graceprimary.qld.edu.au
SUMMARY:Subway Day
DESCRIPTION:Subway Day \n
URL:https://www.graceprimary.qld.edu.au/event/subway-day/
END:VEVENT
BEGIN:VEVENT
DTSTART;TZID=Australia/Brisbane:20200405T000000
DTEND;TZID=Australia/Brisbane:20200405T000000
DTSTAMP:20200301T061101
CREATED:20200228T034341Z
LAST-MODIFIED:20200228T034341Z
UID:20518-1586044800-1586044800@www.graceprimary.qld.edu.au
SUMMARY:T2\, WK 3
DESCRIPTION:T2\, WK 3 \n
URL:https://www.graceprimary.qld.edu.au/event/t2-wk-3/
END:VEVENT
BEGIN:VEVENT
DTSTART;TZID=Australia/Brisbane:20200405T000000
DTEND;TZID=Australia/Brisbane:20200405T000000
DTSTAMP:20200301T061101
CREATED:20200228T034341Z
LAST-MODIFIED:20200228T034341Z
UID:20519-1586044800-1586044800@www.graceprimary.qld.edu.au
SUMMARY:Public Holiday
DESCRIPTION:Public Holiday – labor day \n
URL:https://www.graceprimary.qld.edu.au/event/public-holiday/
END:VEVENT
BEGIN:VEVENT
DTSTART;TZID=Australia/Brisbane:20200412T000000
DTEND;TZID=Australia/Brisbane:20200412T000000
DTSTAMP:20200301T061101
CREATED:20200228T034117Z
LAST-MODIFIED:20200228T034117Z
UID:20437-1586649600-1586649600@www.graceprimary.qld.edu.au
SUMMARY:LAST DAY OF THE YEAR
DESCRIPTION:LAST DAY OF THE YEAR \n
URL:https://www.graceprimary.qld.edu.au/event/last-day-of-the-year/
END:VEVENT
BEGIN:VEVENT
DTSTART;TZID=Australia/Brisbane:20200510T000000
DTEND;TZID=Australia/Brisbane:20200510T000000
DTSTAMP:20200301T061101
CREATED:20200228T034209Z
LAST-MODIFIED:20200228T034209Z
UID:20459-1589068800-1589068800@www.graceprimary.qld.edu.au
SUMMARY:Queens Birthday - Public Holiday
DESCRIPTION:Queens Birthday – Public Holiday \n
URL:https://www.graceprimary.qld.edu.au/event/queens-birthday-public-holiday/
END:VEVENT
BEGIN:VEVENT
DTSTART;TZID=Australia/Brisbane:20200510T000000
DTEND;TZID=Australia/Brisbane:20200510T000000
DTSTAMP:20200301T061101
CREATED:20200228T034211Z
LAST-MODIFIED:20200228T034211Z
UID:20460-1589068800-1589068800@www.graceprimary.qld.edu.au
SUMMARY:T4 WK 1
DESCRIPTION:T4 WK 1 \n
URL:https://www.graceprimary.qld.edu.au/event/t4-wk-1/
END:VEVENT
BEGIN:VEVENT
DTSTART;TZID=Australia/Brisbane:20200603T000000
DTEND;TZID=Australia/Brisbane:20200603T000000
DTSTAMP:20200301T061101
CREATED:20200228T034416Z
LAST-MODIFIED:20200228T034416Z
UID:20550-1591142400-1591142400@www.graceprimary.qld.edu.au
SUMMARY:Yr 1 & 2 Swimming
DESCRIPTION:Yr 1 & 2 Swimming \n
URL:https://www.graceprimary.qld.edu.au/event/yr-1-2-swimming-2/
END:VEVENT
BEGIN:VEVENT
DTSTART;TZID=Australia/Brisbane:20200604T000000
DTEND;TZID=Australia/Brisbane:20200604T000000
DTSTAMP:20200301T061101
CREATED:20200228T034350Z
LAST-MODIFIED:20200228T034350Z
UID:20527-1591228800-1591228800@www.graceprimary.qld.edu.au
SUMMARY:SCHOOL HOLIDAYS
DESCRIPTION:SCHOOL HOLIDAYS \n
URL:https://www.graceprimary.qld.edu.au/event/school-holidays-4/
END:VEVENT
BEGIN:VEVENT
DTSTART;TZID=Australia/Brisbane:20200608T000000
DTEND;TZID=Australia/Brisbane:20200708T000000
DTSTAMP:20200301T061101
CREATED:20200228T034300Z
LAST-MODIFIED:20200228T034300Z
UID:20481-1591574400-1594166400@www.graceprimary.qld.edu.au
SUMMARY:Year 2 Camp
DESCRIPTION:Luther Heights \n
URL:https://www.graceprimary.qld.edu.au/event/year-2-camp/
END:VEVENT
BEGIN:VEVENT
DTSTART;TZID=Australia/Brisbane:20200610T000000
DTEND;TZID=Australia/Brisbane:20200610T000000
DTSTAMP:20200301T061101
CREATED:20200228T034208Z
LAST-MODIFIED:20200228T034208Z
UID:20458-1591747200-1591747200@www.graceprimary.qld.edu.au
SUMMARY:Student Free Day
DESCRIPTION:Student Free Day \n
URL:https://www.graceprimary.qld.edu.au/event/student-free-day/
END:VEVENT
BEGIN:VEVENT
DTSTART;TZID=Australia/Brisbane:20200702T000000
DTEND;TZID=Australia/Brisbane:20200702T000000
DTSTAMP:20200301T061101
CREATED:20200228T034438Z
LAST-MODIFIED:20200228T034438Z
UID:20563-1593648000-1593648000@www.graceprimary.qld.edu.au
SUMMARY:Yr 1 & 2 Swimming
DESCRIPTION:Yr 1 & 2 Swimming \n
URL:https://www.graceprimary.qld.edu.au/event/yr-1-2-swimming-3/
END:VEVENT
BEGIN:VEVENT
DTSTART;TZID=Australia/Brisbane:20200705T000000
DTEND;TZID=Australia/Brisbane:20200705T000000
DTSTAMP:20200301T061101
CREATED:20200228T034338Z
LAST-MODIFIED:20200228T034338Z
UID:20517-1593907200-1593907200@www.graceprimary.qld.edu.au
SUMMARY:Mother's Day Stall
DESCRIPTION:Mother’s Day Stall \n
URL:https://www.graceprimary.qld.edu.au/event/mothers-day-stall-2/
END:VEVENT
BEGIN:VEVENT
DTSTART;TZID=Australia/Brisbane:20200708T000000
DTEND;TZID=Australia/Brisbane:20200708T000000
DTSTAMP:20200301T061101
CREATED:20200228T034257Z
LAST-MODIFIED:20200228T034257Z
UID:20480-1594166400-1594166400@www.graceprimary.qld.edu.au
SUMMARY:School Disco
DESCRIPTION:School Disco TBC \n
URL:https://www.graceprimary.qld.edu.au/event/school-disco/
END:VEVENT
BEGIN:VEVENT
DTSTART;TZID=Australia/Brisbane:20200709T000000
DTEND;TZID=Australia/Brisbane:20200709T000000
DTSTAMP:20200301T061101
CREATED:20200228T034217Z
LAST-MODIFIED:20200228T034217Z
UID:20466-1594252800-1594252800@www.graceprimary.qld.edu.au
SUMMARY:T3\, WK 9
DESCRIPTION:T3\, WK 9 \n
URL:https://www.graceprimary.qld.edu.au/event/t3-wk-9/
END:VEVENT
BEGIN:VEVENT
DTSTART;TZID=Australia/Brisbane:20200712T000000
DTEND;TZID=Australia/Brisbane:20200712T000000
DTSTAMP:20200301T061101
CREATED:20200228T034116Z
LAST-MODIFIED:20200228T034116Z
UID:20434-1594512000-1594512000@www.graceprimary.qld.edu.au
SUMMARY:SCHOOL HOLIDAYS
DESCRIPTION:SCHOOL HOLIDAYS \n
URL:https://www.graceprimary.qld.edu.au/event/school-holidays/
END:VEVENT
BEGIN:VEVENT
DTSTART;TZID=Australia/Brisbane:20200805T000000
DTEND;TZID=Australia/Brisbane:20200805T000000
DTSTAMP:20200301T061101
CREATED:20200228T034337Z
LAST-MODIFIED:20200228T034337Z
UID:20515-1596585600-1596585600@www.graceprimary.qld.edu.au
SUMMARY:Mother's Day Stall
DESCRIPTION:Mother’s Day Stall \n
URL:https://www.graceprimary.qld.edu.au/event/mothers-day-stall/
END:VEVENT
BEGIN:VEVENT
DTSTART;TZID=Australia/Brisbane:20200806T000000
DTEND;TZID=Australia/Brisbane:20200806T000000
DTSTAMP:20200301T061101
CREATED:20200228T034319Z
LAST-MODIFIED:20200228T034319Z
UID:20498-1596672000-1596672000@www.graceprimary.qld.edu.au
SUMMARY:T2\, WK 8
DESCRIPTION:T2\, WK 8 \n
URL:https://www.graceprimary.qld.edu.au/event/t2-wk-8/
END:VEVENT
BEGIN:VEVENT
DTSTART;TZID=Australia/Brisbane:20200903T000000
DTEND;TZID=Australia/Brisbane:20200903T000000
DTSTAMP:20200301T061101
CREATED:20200228T034415Z
LAST-MODIFIED:20200228T034415Z
UID:20549-1599091200-1599091200@www.graceprimary.qld.edu.au
SUMMARY:T1\, WK 7
DESCRIPTION:T1\, WK 7 \n
URL:https://www.graceprimary.qld.edu.au/event/t1-wk-7/
END:VEVENT
BEGIN:VEVENT
DTSTART;TZID=Australia/Brisbane:20200911T000000
DTEND;TZID=Australia/Brisbane:20200911T000000
DTSTAMP:20200301T061101
CREATED:20200228T034145Z
LAST-MODIFIED:20200228T034145Z
UID:20448-1599782400-1599782400@www.graceprimary.qld.edu.au
SUMMARY:T4 WK 6
DESCRIPTION:T4 WK 6 \n
URL:https://www.graceprimary.qld.edu.au/event/t4-wk-6/
END:VEVENT
BEGIN:VEVENT
DTSTART;TZID=Australia/Brisbane:20201008T000000
DTEND;TZID=Australia/Brisbane:20201008T000000
DTSTAMP:20200301T061101
CREATED:20200228T034256Z
LAST-MODIFIED:20200228T034256Z
UID:20478-1602115200-1602115200@www.graceprimary.qld.edu.au
SUMMARY:Ekka Show Holiday
DESCRIPTION:Ekka Show Holiday \n
URL:https://www.graceprimary.qld.edu.au/event/ekka-show-holiday/
END:VEVENT
BEGIN:VEVENT
DTSTART;TZID=Australia/Brisbane:20201008T000000
DTEND;TZID=Australia/Brisbane:20201008T000000
DTSTAMP:20200301T061101
CREATED:20200228T034257Z
LAST-MODIFIED:20200228T034257Z
UID:20479-1602115200-1602115200@www.graceprimary.qld.edu.au
SUMMARY:T3\, WK 5
DESCRIPTION:T3\, WK 5 \n
URL:https://www.graceprimary.qld.edu.au/event/t3-wk-5/
END:VEVENT
BEGIN:VEVENT
DTSTART;TZID=Australia/Brisbane:20201105T000000
DTEND;TZID=Australia/Brisbane:20201105T000000
DTSTAMP:20200301T061101
CREATED:20200228T034335Z
LAST-MODIFIED:20200228T034335Z
UID:20514-1604534400-1604534400@www.graceprimary.qld.edu.au
SUMMARY:T2\, WK 4
DESCRIPTION:T2\, WK 4 \n
URL:https://www.graceprimary.qld.edu.au/event/t2-wk-4/
END:VEVENT
BEGIN:VEVENT
DTSTART;TZID=Australia/Brisbane:20201206T000000
DTEND;TZID=Australia/Brisbane:20201206T000000
DTSTAMP:20200301T061101
CREATED:20200228T034316Z
LAST-MODIFIED:20200228T034316Z
UID:20497-1607212800-1607212800@www.graceprimary.qld.edu.au
SUMMARY:GLPS Junior Athletics Carnival
DESCRIPTION:GLPS Junior Athletics Carnival \n
URL:https://www.graceprimary.qld.edu.au/event/glps-junior-athletics-carnival/
END:VEVENT
BEGIN:VEVENT
DTSTART;TZID=Australia/Brisbane:20201210T000000
DTEND;TZID=Australia/Brisbane:20201210T000000
DTSTAMP:20200301T061101
CREATED:20200228T034208Z
LAST-MODIFIED:20200228T034208Z
UID:20457-1607558400-1607558400@www.graceprimary.qld.edu.au
SUMMARY:T4 WK 2
DESCRIPTION:T4 WK 2 \n
URL:https://www.graceprimary.qld.edu.au/event/t4-wk-2/
END:VEVENT
END:VCALENDAR